BEGIN:VCALENDAR
VERSION:2.0
PRODID:-//MovNat® - ECPv6.15.20//NONSGML v1.0//EN
CALSCALE:GREGORIAN
METHOD:PUBLISH
X-ORIGINAL-URL:https://movnat.com
X-WR-CALDESC:Events for MovNat®
REFRESH-INTERVAL;VALUE=DURATION:PT1H
X-Robots-Tag:noindex
X-PUBLISHED-TTL:PT1H
BEGIN:VTIMEZONE
TZID:America/New_York
BEGIN:DAYLIGHT
TZOFFSETFROM:-0500
TZOFFSETTO:-0400
TZNAME:EDT
DTSTART:20240310T070000
END:DAYLIGHT
BEGIN:STANDARD
TZOFFSETFROM:-0400
TZOFFSETTO:-0500
TZNAME:EST
DTSTART:20241103T060000
END:STANDARD
BEGIN:DAYLIGHT
TZOFFSETFROM:-0500
TZOFFSETTO:-0400
TZNAME:EDT
DTSTART:20250309T070000
END:DAYLIGHT
BEGIN:STANDARD
TZOFFSETFROM:-0400
TZOFFSETTO:-0500
TZNAME:EST
DTSTART:20251102T060000
END:STANDARD
BEGIN:DAYLIGHT
TZOFFSETFROM:-0500
TZOFFSETTO:-0400
TZNAME:EDT
DTSTART:20260308T070000
END:DAYLIGHT
BEGIN:STANDARD
TZOFFSETFROM:-0400
TZOFFSETTO:-0500
TZNAME:EST
DTSTART:20261101T060000
END:STANDARD
END:VTIMEZONE
BEGIN:VEVENT
DTSTART;TZID=America/New_York:20250902T000000
DTEND;TZID=America/New_York:20250904T235959
DTSTAMP:20260420T140520
CREATED:20240708T222506Z
LAST-MODIFIED:20250829T070056Z
UID:30000971-1756771200-1757030399@movnat.com
SUMMARY:Level 3 Certification: Etrechy\, FRANCE
DESCRIPTION:The MovNat Level 3 Certification is an Epic Master Class in Natural Movement\n\n\n\n\n\nLevel 3 techniques are more challenging and demand more athleticism\, physical ability\, mental stamina\, efficiency\, and mindfulness. This event is for the adventurous\, the passionate\, the committed. \n\n\n\n\n\n\n\n\n\n\n\n\n\n\n\n\n\n\n\n\n\nLevel 3 Workshop Benefits\n\n\n\nSecure your spot in the Level 3 Workshop and enjoy LIFETIME ACCESS to the MovNat Online Academy along with all our PDFs—an invaluable resource to elevate your movement practice! \n\n\n\nA gift from the MovNat Team: a FREE MovNat T-shirt! \n\n\n\nWhen you register for one of our certification workshops\, you’ll be eligible to receive a FREE MovNat T-shirt! After completing your registration\, please allow a few days for an email to arrive in your inbox. This email will contain a special coupon code that you can use to redeem your free shirt. Simply follow the instructions provided in the email to claim your MovNat gear. \n\n\n\n\n\n\n\nDescription:\n\n\n\n\nThe MovNat Level 3 Certification program  is a master level course for students to demonstrate the highest standards of Real World Fitness ability and knowledge. Level 3 requires more athleticism\, movement efficiency\, mental toughness\, and mindfulness to perform advanced movement skills in complex\, natural environments. Only the most dedicated and adaptable students earn the coveted Level 3 Certification. Get ready for the hardest training MovNat has to offer. Do you have what it takes? \n\n\n\n\n\n\n\n\nLearn More About Level 3 Certification\n\n\n\n\n\n\n\n\n\n\n\n\n\n\n\n\n\n\n\n\n\n\n\n\n\n\n\n\n\n\n\n\n\n\n\nPrerequisites:\n\n\n\nYou must be at least 18 years old to attend. Current Level 2 Certification is required to get certified. \n\n\n\n\n\n\n\nLocation:\n\n\n\n\n\nMore details will be emailed to participants in advance of the event’s start date. \n\n\n\n\n\n\n\nSchedule:\n\n\n\nTuesday to Thursday: 8am – 6pm \n\n\n\nNote: Please arrive at least 15 minutes early to prepare for each day’s activity. \n\n\n\n\n\n\n\nWhat To Bring:\n\n\n\n\nGovernment issued photo ID\n\n\n\nNotebook and MovNat Trainer Manual\n\n\n\nTraining gear for indoors and outdoors (e.g. shorts\, T-shirt\, minimal shoes\, etc.)\n\n\n\nSnacks\, fluids\, and lunch\n\n\n\n\n\n\n\n\nAdditional Information:\n\n\n\nAccommodation and food fees are not included. Participants will need to bring their own tent to camp.  \n\n\n\nRefund & Transfer Policy: Due to the large quantity of courses scheduled\, MovNat does not accommodate requests for refunds. However\, we accommodate transfer requests\, subject to limitations (see Terms and Conditions for details). \n\n\n\n\n\n\nThe MovNat Level 3 Certification: Do You Have What It Takes?Watch this video on YouTube\n\n\n\n\n\nMovNat Level 3 Certification (2022 USA Highlights)Watch this video on YouTube\n\n\n\n\n\n\n\n\n\n\nMeet the Instructor\n\n\n\n\n\n\n\nErwan Le Corre is the founder of “MovNat”\, a synthesis of his long-term passion for real-world physical competency\, his love of movement in nature\, his extensive knowledge of Physical Education history\, and his personal philosophy of life. He believes it is everyone’s universal and biological birthright to be strong\, healthy\, happy and free. He calls this state of being our “True Nature.” Read Erwan’s full BIO here.
URL:https://movnat.com/event/level-3-certification-etrechy-essonne-france/
LOCATION:Étréchy\, Essonne\, France\, Étréchy\, Essonne\, France
CATEGORIES:All Certification Workshops,All Workshops in Europe,Level 3 Certification
ATTACH;FMTTYPE=image/jpeg:https://movnat.com/wp-content/uploads/2016/01/cert_laurel3-e1629559331536.jpg
END:VEVENT
END:VCALENDAR